BEGIN:VCALENDAR
VERSION:2.0
PRODID:-//wp-events-plugin.com//7.2.3.1//EN
BEGIN:VEVENT
UID:527@themeridian.co.uk
DTSTART;TZID=Europe/London:20260326T093000
DTEND;TZID=Europe/London:20260326T103000
DTSTAMP:20260415T092338Z
URL:https://www.themeridian.co.uk/events/yoga-with-joanna-lee-2026-03-26/
SUMMARY:Yoga with Joanna Lee
DESCRIPTION:
ATTACH;FMTTYPE=image/jpeg:https://www.themeridian.co.uk/wp-content/uploads
 /2025/12/YOGAJ.jpg
CATEGORIES:Health &amp; Wellbeing
LOCATION:Kay Kendal Suite\, The Meridian Centre 201 Queen Street\, Witherns
 ea\, East Riding of Yorkshire\, HU19 2HH\, East Yorkshire\, United Kingdom
X-APPLE-STRUCTURED-LOCATION;VALUE=URI;X-ADDRESS=The Meridian Centre 201 Que
 en Street\, Withernsea\, East Riding of Yorkshire\, HU19 2HH\, East Yorksh
 ire\, United Kingdom;X-APPLE-RADIUS=100;X-TITLE=Kay Kendal Suite:geo:0,0
END:VEVENT
BEGIN:VTIMEZONE
TZID:Europe/London
X-LIC-LOCATION:Europe/London
BEGIN:STANDARD
DTSTART:20251026T010000
TZOFFSETFROM:+0100
TZOFFSETTO:+0000
TZNAME:GMT
END:STANDARD
END:VTIMEZONE
END:VCALENDAR